BEGIN:VCALENDAR
VERSION:2.0
PRODID:-//Goshen Soccer Academy - ECPv6.15.13//NONSGML v1.0//EN
CALSCALE:GREGORIAN
METHOD:PUBLISH
X-ORIGINAL-URL:https://goshensocceracademy.com/es/
X-WR-CALDESC:Eventos para Goshen Soccer Academy
REFRESH-INTERVAL;VALUE=DURATION:PT1H
X-Robots-Tag:noindex
X-PUBLISHED-TTL:PT1H
BEGIN:VTIMEZONE
TZID:America/New_York
BEGIN:DAYLIGHT
TZOFFSETFROM:-0500
TZOFFSETTO:-0400
TZNAME:EDT
DTSTART:20250309T070000
END:DAYLIGHT
BEGIN:STANDARD
TZOFFSETFROM:-0400
TZOFFSETTO:-0500
TZNAME:EST
DTSTART:20251102T060000
END:STANDARD
BEGIN:DAYLIGHT
TZOFFSETFROM:-0500
TZOFFSETTO:-0400
TZNAME:EDT
DTSTART:20260308T070000
END:DAYLIGHT
BEGIN:STANDARD
TZOFFSETFROM:-0400
TZOFFSETTO:-0500
TZNAME:EST
DTSTART:20261101T060000
END:STANDARD
BEGIN:DAYLIGHT
TZOFFSETFROM:-0500
TZOFFSETTO:-0400
TZNAME:EDT
DTSTART:20270314T070000
END:DAYLIGHT
BEGIN:STANDARD
TZOFFSETFROM:-0400
TZOFFSETTO:-0500
TZNAME:EST
DTSTART:20271107T060000
END:STANDARD
END:VTIMEZONE
BEGIN:VEVENT
DTSTART;TZID=America/New_York:20260321T090000
DTEND;TZID=America/New_York:20260321T140000
DTSTAMP:20260423T152057
CREATED:20260305T202104Z
LAST-MODIFIED:20260305T210021Z
UID:3052-1774083600-1774101600@goshensocceracademy.com
SUMMARY:Campamento de fútbol juvenil Elite Skills
DESCRIPTION:Inscríbete aquí\n  \nUn campamento de fútbol especializado para niños de 2º a 5º curso dirigido por el entrenador Tavi y otros entrenadores de alto nivel. Los jugadores se centrarán en el regate\, la finalización y el desarrollo de habilidades en un entorno diseñado para fomentar la confianza y la habilidad. ¡Se proporciona el almuerzo!   \n\nLa inscripción cuesta 45 dólares por jugador. La inscripción tendrá un límite de 35 jugadores.  \n21 de marzo de 9 a 14 h.\n\nLa sesión de la mañana consistirá en ejercicios especializados\, y la de la tarde en partidos y situaciones de juego.
URL:https://goshensocceracademy.com/es/evento/3052/
LOCATION:Academia de Fútbol de Goshen\, 1400 Avenida Fairfield\, Goshen\, EN\, United States
END:VEVENT
END:VCALENDAR