BEGIN:VCALENDAR
VERSION:2.0
PRODID:-//Goshen Soccer Academy - ECPv6.15.13//NONSGML v1.0//EN
CALSCALE:GREGORIAN
METHOD:PUBLISH
X-WR-CALNAME:Goshen Soccer Academy
X-ORIGINAL-URL:https://goshensocceracademy.com/es/
X-WR-CALDESC:Eventos para Goshen Soccer Academy
REFRESH-INTERVAL;VALUE=DURATION:PT1H
X-Robots-Tag:noindex
X-PUBLISHED-TTL:PT1H
BEGIN:VTIMEZONE
TZID:America/New_York
BEGIN:DAYLIGHT
TZOFFSETFROM:-0500
TZOFFSETTO:-0400
TZNAME:EDT
DTSTART:20240310T070000
END:DAYLIGHT
BEGIN:STANDARD
TZOFFSETFROM:-0400
TZOFFSETTO:-0500
TZNAME:EST
DTSTART:20241103T060000
END:STANDARD
BEGIN:DAYLIGHT
TZOFFSETFROM:-0500
TZOFFSETTO:-0400
TZNAME:EDT
DTSTART:20250309T070000
END:DAYLIGHT
BEGIN:STANDARD
TZOFFSETFROM:-0400
TZOFFSETTO:-0500
TZNAME:EST
DTSTART:20251102T060000
END:STANDARD
BEGIN:DAYLIGHT
TZOFFSETFROM:-0500
TZOFFSETTO:-0400
TZNAME:EDT
DTSTART:20260308T070000
END:DAYLIGHT
BEGIN:STANDARD
TZOFFSETFROM:-0400
TZOFFSETTO:-0500
TZNAME:EST
DTSTART:20261101T060000
END:STANDARD
END:VTIMEZONE
BEGIN:VEVENT
DTSTART;TZID=America/New_York:20251027T173000
DTEND;TZID=America/New_York:20251027T183000
DTSTAMP:20260423T234102
CREATED:20250709T173135Z
LAST-MODIFIED:20250821T171908Z
UID:2617-1761586200-1761589800@goshensocceracademy.com
SUMMARY:Comienza la Academia de Otoño
DESCRIPTION:Inscripciones: Fútbol Juvenil de Otoño en la Academia de Fútbol de Goshen \nNos complace dar la bienvenida a jóvenes deportistas de todos los niveles de habilidad\, desde preescolar hasta 5º de primaria\, para que se unan a nuestro divertido y atractivo Programa de Fútbol de Otoño. Los participantes se mantendrán activos\, desarrollarán habilidades futbolísticas y disfrutarán de tiempo de calidad con amigos y con nuestro entusiasta cuerpo técnico. \nDetalles del Programa:\n📅 Fechas de la Sesión: 27 de octubre – 18 de diciembre de 2025\n📍 Lugar: Goshen Soccer Academy\, 1400 Fairfield Ave\, Goshen\, IN\n💵 Coste: 150 $ por niño (incluye camiseta de la academia)\nRecibe un 10% de descuento por cada hermano adicional inscrito. \nHorario semanal: \nJardín de infancia: Lunes y Jueves | 5:30 – 6:30 PM \n1er Grado: Lunes | 6:30 – 7:30 PM & Jueves | 5:30 – 6:30 PM \n2º y 3er Grado: Martes | 17:30 – 18:30 y Jueves | 18:30 – 19:30 \n4º y 5º Grado: Martes | 18:30 – 19:30 y Jueves | 19:30 – 20:30 \n⚽ Noches de juego: Lunes y martes\n🟢 Noches de práctica: Jueves \nPor favor\, recuerda llevar tu camiseta de la academia las noches de partido: los colores de las camisetas indican la asignación de los equipos. \n¡Esperamos una temporada fantástica de crecimiento\, trabajo en equipo y diversión! \nRegístrate en
URL:https://goshensocceracademy.com/es/evento/comienza-la-academia-de-otono/
LOCATION:Academia de Fútbol de Goshen\, 1400 Avenida Fairfield\, Goshen\, EN\, United States
END:VEVENT
END:VCALENDAR