BEGIN:VCALENDAR
VERSION:2.0
PRODID:-//Goshen Soccer Academy - ECPv6.15.13//NONSGML v1.0//EN
CALSCALE:GREGORIAN
METHOD:PUBLISH
X-ORIGINAL-URL:https://goshensocceracademy.com/es/
X-WR-CALDESC:Eventos para Goshen Soccer Academy
REFRESH-INTERVAL;VALUE=DURATION:PT1H
X-Robots-Tag:noindex
X-PUBLISHED-TTL:PT1H
BEGIN:VTIMEZONE
TZID:America/New_York
BEGIN:DAYLIGHT
TZOFFSETFROM:-0500
TZOFFSETTO:-0400
TZNAME:EDT
DTSTART:20240310T070000
END:DAYLIGHT
BEGIN:STANDARD
TZOFFSETFROM:-0400
TZOFFSETTO:-0500
TZNAME:EST
DTSTART:20241103T060000
END:STANDARD
BEGIN:DAYLIGHT
TZOFFSETFROM:-0500
TZOFFSETTO:-0400
TZNAME:EDT
DTSTART:20250309T070000
END:DAYLIGHT
BEGIN:STANDARD
TZOFFSETFROM:-0400
TZOFFSETTO:-0500
TZNAME:EST
DTSTART:20251102T060000
END:STANDARD
BEGIN:DAYLIGHT
TZOFFSETFROM:-0500
TZOFFSETTO:-0400
TZNAME:EDT
DTSTART:20260308T070000
END:DAYLIGHT
BEGIN:STANDARD
TZOFFSETFROM:-0400
TZOFFSETTO:-0500
TZNAME:EST
DTSTART:20261101T060000
END:STANDARD
END:VTIMEZONE
BEGIN:VEVENT
DTSTART;TZID=America/New_York:20250716T180000
DTEND;TZID=America/New_York:20250716T200000
DTSTAMP:20260424T044448
CREATED:20250709T152314Z
LAST-MODIFIED:20250709T153038Z
UID:2602-1752688800-1752696000@goshensocceracademy.com
SUMMARY:Pickleball - Noche de chicas Social
DESCRIPTION:¡Ven a disfrutar de un tiempo juntos sólo con mujeres!\nCoste: 5 $ con afiliación al club / 10 $ en caso contrario \nNoche de Damas – Social\nPara jugadoras de todos los niveles (deben saber llevar la puntuación). Si no estás segura de tu nivel\, empieza por apuntarte a esta noche.  \nEl tema de este mes es «Todo rosa». ¡Así que enséñanos tu rosa!\nY si no quieres ser rosa\, ¡también está bien! \nSi quieres\, puedes traer algo rico para compartir. \nNO es recomendable para jugadores novatos que nunca han jugado – Por favor\, asiste a nuestra clase de Introducción antes de apuntarte a esto. \n¡Inscríbete con antelación en la Reserva Judicial! \n¿Preguntas? Envía un correo electrónico a pam@goshensocceracademy.com
URL:https://goshensocceracademy.com/es/evento/pickleball-noche-de-chicas-social/
LOCATION:Academia de Fútbol de Goshen\, 1400 Avenida Fairfield\, Goshen\, EN\, United States
END:VEVENT
BEGIN:VEVENT
DTSTART;TZID=America/New_York:20250723T180000
DTEND;TZID=America/New_York:20250723T200000
DTSTAMP:20260424T044448
CREATED:20250709T152950Z
LAST-MODIFIED:20250709T152950Z
UID:2607-1753293600-1753300800@goshensocceracademy.com
SUMMARY:Pickleball - Noche de chicas Avanzado
DESCRIPTION:¡Ven a disfrutar de un tiempo juntos sólo con mujeres!\nCoste: 5 $ con afiliación al club / 10 $ en caso contrario \nNoche de Damas – Avanzado\nPara quienes juegan a un «nivel alto competitivo 3\,5»\, o tienen una clasificación 3\,5+DUPR. \nEl tema de este mes es «Todo rosa». ¡Así que enséñanos tu rosa!\nY si no quieres ser rosa\, ¡también está bien! \nSi quieres\, puedes traer algo rico para compartir. \nNO es recomendable para jugadores novatos que nunca han jugado – Por favor\, asiste a nuestra clase de Introducción antes de apuntarte a esto. \n¡Inscríbete con antelación en la Reserva Judicial! \n¿Preguntas? pam@goshensocceracademy.com
URL:https://goshensocceracademy.com/es/evento/pickleball-noche-de-chicas-avanzado/
LOCATION:Academia de Fútbol de Goshen\, 1400 Avenida Fairfield\, Goshen\, EN\, United States
END:VEVENT
BEGIN:VEVENT
DTSTART;TZID=America/New_York:20250725T180000
DTEND;TZID=America/New_York:20250725T210000
DTSTAMP:20260424T044448
CREATED:20250709T175540Z
LAST-MODIFIED:20250709T175540Z
UID:2623-1753466400-1753477200@goshensocceracademy.com
SUMMARY:Pickleball - Slams n' Snacks
DESCRIPTION:Slams n’ Snacks Dobles Mixtos Pickleball Round Robin \n¡Prepárate para divertirte en la pista! Únete a nosotros en Slams n’ Snacks – ¡Trae tu pala\, tu pareja de DOBLES MIXTOS y un tentempié para compartir! \n🕘 Hora: 18:00 – 21:00 \nFormato del acto: \nDOBLES MIXTOS round robin play \nLos jugadores deben inscribirse con una pareja de Dobles Mixtos (por favor\, inscríbete el mismo día que tu pareja). \nAbierto a jugadores autocalificados con 3\,5 o superior \nÚnete a nosotros en diversión juegos\, amistoso caras y deliciosos aperitivos¡s!
URL:https://goshensocceracademy.com/es/evento/pickleball-slams-n-snacks/
LOCATION:Academia de Fútbol de Goshen\, 1400 Avenida Fairfield\, Goshen\, EN\, United States
END:VEVENT
END:VCALENDAR