BEGIN:VCALENDAR
VERSION:2.0
PRODID:-//Goshen Soccer Academy - ECPv6.15.13//NONSGML v1.0//EN
CALSCALE:GREGORIAN
METHOD:PUBLISH
X-WR-CALNAME:Goshen Soccer Academy
X-ORIGINAL-URL:https://goshensocceracademy.com/es/
X-WR-CALDESC:Eventos para Goshen Soccer Academy
REFRESH-INTERVAL;VALUE=DURATION:PT1H
X-Robots-Tag:noindex
X-PUBLISHED-TTL:PT1H
BEGIN:VTIMEZONE
TZID:America/New_York
BEGIN:DAYLIGHT
TZOFFSETFROM:-0500
TZOFFSETTO:-0400
TZNAME:EDT
DTSTART:20250309T070000
END:DAYLIGHT
BEGIN:STANDARD
TZOFFSETFROM:-0400
TZOFFSETTO:-0500
TZNAME:EST
DTSTART:20251102T060000
END:STANDARD
BEGIN:DAYLIGHT
TZOFFSETFROM:-0500
TZOFFSETTO:-0400
TZNAME:EDT
DTSTART:20260308T070000
END:DAYLIGHT
BEGIN:STANDARD
TZOFFSETFROM:-0400
TZOFFSETTO:-0500
TZNAME:EST
DTSTART:20261101T060000
END:STANDARD
BEGIN:DAYLIGHT
TZOFFSETFROM:-0500
TZOFFSETTO:-0400
TZNAME:EDT
DTSTART:20270314T070000
END:DAYLIGHT
BEGIN:STANDARD
TZOFFSETFROM:-0400
TZOFFSETTO:-0500
TZNAME:EST
DTSTART:20271107T060000
END:STANDARD
END:VTIMEZONE
BEGIN:VEVENT
DTSTART;TZID=America/New_York:20260418T090000
DTEND;TZID=America/New_York:20260418T140000
DTSTAMP:20260423T151925
CREATED:20260325T125623Z
LAST-MODIFIED:20260407T123254Z
UID:3079-1776502800-1776520800@goshensocceracademy.com
SUMMARY:Campamento de Fútbol Juvenil de Porteros y Rematadores
DESCRIPTION:GSA ya tenía un campamento de fútbol juvenil de trabajo de habilidad y técnica de regate\, ¡éste es el siguiente paso de esa serie! Esta sesión se centra en la finalización y las habilidades del portero.  \nUn campamento de fútbol especializado para niños de 2º a 5º curso dirigido por el entrenador Tavi y otros entrenadores de alto nivel. Los jugadores se centrarán en golpear el balón\, rematar y desarrollar la habilidad del portero en un entorno diseñado para fomentar la confianza y la habilidad. De nuevo\, ¡se proporcionará el almuerzo!   \n\nLa inscripción cuesta 45 dólares por jugador. La inscripción tendrá un límite de 35 jugadores.  \n\n18 de abril de 9 a 14 h. \n  \n\n\nLa sesión de la mañana consistirá en ejercicios especializados\, y la de la tarde en partidos y situaciones de juego.\n  \nInscríbete aquí
URL:https://goshensocceracademy.com/es/evento/campamento-de-futbol-juvenil-de-porteros-y-rematadores/
LOCATION:Academia de Fútbol de Goshen\, 1400 Avenida Fairfield\, Goshen\, EN\, United States
END:VEVENT
END:VCALENDAR