BEGIN:VCALENDAR
VERSION:2.0
PRODID:-//Goshen Soccer Academy - ECPv6.15.13//NONSGML v1.0//EN
CALSCALE:GREGORIAN
METHOD:PUBLISH
X-ORIGINAL-URL:https://goshensocceracademy.com/es/
X-WR-CALDESC:Eventos para Goshen Soccer Academy
REFRESH-INTERVAL;VALUE=DURATION:PT1H
X-Robots-Tag:noindex
X-PUBLISHED-TTL:PT1H
BEGIN:VTIMEZONE
TZID:America/New_York
BEGIN:DAYLIGHT
TZOFFSETFROM:-0500
TZOFFSETTO:-0400
TZNAME:EDT
DTSTART:20250309T070000
END:DAYLIGHT
BEGIN:STANDARD
TZOFFSETFROM:-0400
TZOFFSETTO:-0500
TZNAME:EST
DTSTART:20251102T060000
END:STANDARD
BEGIN:DAYLIGHT
TZOFFSETFROM:-0500
TZOFFSETTO:-0400
TZNAME:EDT
DTSTART:20260308T070000
END:DAYLIGHT
BEGIN:STANDARD
TZOFFSETFROM:-0400
TZOFFSETTO:-0500
TZNAME:EST
DTSTART:20261101T060000
END:STANDARD
BEGIN:DAYLIGHT
TZOFFSETFROM:-0500
TZOFFSETTO:-0400
TZNAME:EDT
DTSTART:20270314T070000
END:DAYLIGHT
BEGIN:STANDARD
TZOFFSETFROM:-0400
TZOFFSETTO:-0500
TZNAME:EST
DTSTART:20271107T060000
END:STANDARD
END:VTIMEZONE
BEGIN:VEVENT
DTSTART;TZID=America/New_York:20260413T180000
DTEND;TZID=America/New_York:20260413T220000
DTSTAMP:20260423T152621
CREATED:20260303T160837Z
LAST-MODIFIED:20260402T231908Z
UID:3033-1776103200-1776117600@goshensocceracademy.com
SUMMARY:¡Comienza el voleibol de primavera GSA!
DESCRIPTION:¡Inscríbete aquí!\n  \n  \n¡El voleibol vuelve a GSA esta primavera! Ven a formar parte de una creciente comunidad deportiva basada en la energía\, la conexión y la competición. Tanto si juegas con amigos\, compañeros de trabajo o conoces a nuevos compañeros de equipo\, en esta liga todo gira en torno a las concentraciones divertidas\, los grandes momentos y la creación de comunidad a través del deporte. ¡No te lo pierdas!    \nTendremos 2 ligas con distintos niveles de competitividad: Competitiva y Rec. La temporada durará del 13 de abril al 28 de mayo\, con un Torneo la semana del 25 de mayo. Los equipos jugarán a doble partido\, bien a las 18:00 y 19:00\, bien a las 20:00 y 21:00. La liga Comp es los martes por la noche\, y la Rec League los jueves. Para inscribir a tu equipo\, tu capitán tendrá que crear una cuenta con nosotros en Court Reserve. Sólo tienes que elegir la afiliación básica a la GSA\, que es gratuita\, y proceder a la inscripción del equipo.      \nTodos los equipos deben designar a un jugador como representante del equipo. El número máximo de jugadores permitido en la lista de un equipo es 15. El número mínimo de jugadores permitido en una lista es 6. Los jugadores sólo pueden jugar en un equipo por noche de liga. El número mínimo de jugadores permitido en una lista es de 6. Los jugadores sólo pueden jugar en un equipo por noche de liga. Los jugadores menores de 18 años deben tener el consentimiento paterno para participar. Todos los jugadores deben tener al menos 16 años. Es responsabilidad del representante del equipo asegurarse de que todos los jugadores del equipo firmen la lista oficial. Las listas se encontrarán en la GSA.        \nLos equipos están formados por un máximo de 6 jugadores en la pista. \nLos equipos pueden empezar con 5 jugadores sin penalización. \nLos equipos pueden terminar con 5 jugadores sin penalización. \nLos equipos no pueden empezar con menos de 5 jugadores. \nLos equipos pueden acabar con menos de 5 jugadores y se les penalizará con puntos por cada jugador que quede por debajo de 5. \nEn ningún caso puede haber más de 3 varones en la pista a la vez. \nLos equipos podrán jugar con tantas mujeres como sea necesario.
URL:https://goshensocceracademy.com/es/evento/comienza-el-voleibol-de-primavera-gsa/
LOCATION:Academia de Fútbol de Goshen\, 1400 Avenida Fairfield\, Goshen\, EN\, United States
END:VEVENT
END:VCALENDAR