BEGIN:VCALENDAR
VERSION:2.0
PRODID:-//Goshen Soccer Academy - ECPv6.15.13//NONSGML v1.0//EN
CALSCALE:GREGORIAN
METHOD:PUBLISH
X-ORIGINAL-URL:https://goshensocceracademy.com/es/
X-WR-CALDESC:Eventos para Goshen Soccer Academy
REFRESH-INTERVAL;VALUE=DURATION:PT1H
X-Robots-Tag:noindex
X-PUBLISHED-TTL:PT1H
BEGIN:VTIMEZONE
TZID:America/New_York
BEGIN:DAYLIGHT
TZOFFSETFROM:-0500
TZOFFSETTO:-0400
TZNAME:EDT
DTSTART:20250309T070000
END:DAYLIGHT
BEGIN:STANDARD
TZOFFSETFROM:-0400
TZOFFSETTO:-0500
TZNAME:EST
DTSTART:20251102T060000
END:STANDARD
BEGIN:DAYLIGHT
TZOFFSETFROM:-0500
TZOFFSETTO:-0400
TZNAME:EDT
DTSTART:20260308T070000
END:DAYLIGHT
BEGIN:STANDARD
TZOFFSETFROM:-0400
TZOFFSETTO:-0500
TZNAME:EST
DTSTART:20261101T060000
END:STANDARD
BEGIN:DAYLIGHT
TZOFFSETFROM:-0500
TZOFFSETTO:-0400
TZNAME:EDT
DTSTART:20270314T070000
END:DAYLIGHT
BEGIN:STANDARD
TZOFFSETFROM:-0400
TZOFFSETTO:-0500
TZNAME:EST
DTSTART:20271107T060000
END:STANDARD
END:VTIMEZONE
BEGIN:VEVENT
DTSTART;TZID=America/New_York:20260110T080000
DTEND;TZID=America/New_York:20260110T170000
DTSTAMP:20260423T201728
CREATED:20250930T180453Z
LAST-MODIFIED:20250930T180453Z
UID:2897-1768032000-1768064400@goshensocceracademy.com
SUMMARY:¡Comienza la Sesión 2 de la Liga Juvenil de Fútbol Sala GSA!
DESCRIPTION:Otro año más\, ¡nos estamos preparando para una divertida temporada de invierno bajo techo en la GSA! A continuación puedes inscribirte en nuestras ligas juveniles de fútbol sala. La segunda sesión comienza el 10 de enero y termina el 15 de marzo. Si sabes que tu equipo se ausentará ciertos fines de semana por torneos\, por favor\, anótalo en la sección de comentarios.    \n\nCasi todas las ligas juveniles tendrán lugar el sábado. Las divisiones menores jugarán el sábado por la mañana y las divisiones mayores el sábado por la tarde.   Los chicos en edad de instituto (2010 a 2007) año de nacimiento jugarán los domingos por la tarde de 13:00 a 16:00.\n\nLas divisiones se agruparán por año de nacimiento\, empezando por los de 2019 hasta los de 2007.  Si tu equipo tiene niños de diferentes años de nacimiento\, inscríbete en la división de los niños de más edad de tu equipo.\n\nEl formato de la liga es 5 contra 5\, incluido el portero. Las listas de los equipos deben incluir un mínimo de 8 jugadores. Una vez inscrito\, el entrenador recibirá un formulario de inscripción por correo electrónico.  \n\nCuota de equipo: 650 $ por equipo (450 $ para los nacidos en 2018 y 2019).    Incluye 8 partidos y un torneo Debe abonarse un depósito de 250 $ al comienzo de la liga. El saldo total debe pagarse antes del 3er partido. \n\nRegístrate en
URL:https://goshensocceracademy.com/es/evento/comienza-la-sesion-2-de-la-liga-juvenil-de-futbol-sala-gsa/
LOCATION:Academia de Fútbol de Goshen\, 1400 Avenida Fairfield\, Goshen\, EN\, United States
END:VEVENT
END:VCALENDAR