BEGIN:VCALENDAR
VERSION:2.0
PRODID:-//Goshen Soccer Academy - ECPv6.15.13//NONSGML v1.0//EN
CALSCALE:GREGORIAN
METHOD:PUBLISH
X-ORIGINAL-URL:https://goshensocceracademy.com/es/
X-WR-CALDESC:Eventos para Goshen Soccer Academy
REFRESH-INTERVAL;VALUE=DURATION:PT1H
X-Robots-Tag:noindex
X-PUBLISHED-TTL:PT1H
BEGIN:VTIMEZONE
TZID:America/New_York
BEGIN:DAYLIGHT
TZOFFSETFROM:-0500
TZOFFSETTO:-0400
TZNAME:EDT
DTSTART:20240310T070000
END:DAYLIGHT
BEGIN:STANDARD
TZOFFSETFROM:-0400
TZOFFSETTO:-0500
TZNAME:EST
DTSTART:20241103T060000
END:STANDARD
BEGIN:DAYLIGHT
TZOFFSETFROM:-0500
TZOFFSETTO:-0400
TZNAME:EDT
DTSTART:20250309T070000
END:DAYLIGHT
BEGIN:STANDARD
TZOFFSETFROM:-0400
TZOFFSETTO:-0500
TZNAME:EST
DTSTART:20251102T060000
END:STANDARD
BEGIN:DAYLIGHT
TZOFFSETFROM:-0500
TZOFFSETTO:-0400
TZNAME:EDT
DTSTART:20260308T070000
END:DAYLIGHT
BEGIN:STANDARD
TZOFFSETFROM:-0400
TZOFFSETTO:-0500
TZNAME:EST
DTSTART:20261101T060000
END:STANDARD
END:VTIMEZONE
BEGIN:VEVENT
DTSTART;TZID=America/New_York:20251103T173000
DTEND;TZID=America/New_York:20251103T193000
DTSTAMP:20260423T234320
CREATED:20250930T173544Z
LAST-MODIFIED:20250930T173545Z
UID:2878-1762191000-1762198200@goshensocceracademy.com
SUMMARY:¡Comienzan las Pequeñas Leyendas!
DESCRIPTION:Ya hay inscripciones: Pequeñas Leyendas en la Academia de Fútbol de Goshen \nNos complace presentar un nuevo programa de fútbol diseñado para nuestros atletas más jóvenes. Los niños de 3-4 años (Cachorros) o 4-5 años (Leos) tendrán la oportunidad de correr\, jugar y aprender los fundamentos del fútbol en un entorno divertido y de apoyo. Este programa es la manera perfecta de despertar el amor por el juego mientras se desarrolla la coordinación\, el trabajo en equipo y la confianza. Habrá 2 grupos disponibles para la inscripción por grupo de edad\, uno los lunes por la noche y otro los martes por la noche. Las sesiones durarán 6 semanas.     \nLas plazas son limitadas\, ¡no te pierdas esta emocionante oportunidad de que tu pequeño se una a la diversión! \n  \nDetalles del programa: \n📅 Fechas de las sesiones: 3 de noviembre – 9 de diciembre \n📍 Ubicación: Academia de Fútbol de Goshen\, 1400 Fairfield Ave\, Goshen\, IN \n💵 Coste: 90 $ por niño (incluye camiseta) \n😸 Cachorros: Niños de 3-4 años \n🦁 Leos: Niños de 4-5 años \n  \nHorario semanal: \nLunes de Cachorros: Lunes | 5:30 – 6:30 PM \nMartes de Cachorros: Martes | 5:30 – 6:30 PM \nLunes de Leos: Lunes | 18:30 – 19:30 \nMartes de Leos: Martes | 18:30 – 19:30 \n  \n¡Estamos deseando que empiece una sesión emocionante y ver a los niños aprender\, jugar y crecer! \nRegístrate en
URL:https://goshensocceracademy.com/es/evento/comienzan-las-pequenas-leyendas/
LOCATION:Academia de Fútbol de Goshen\, 1400 Avenida Fairfield\, Goshen\, EN\, United States
END:VEVENT
END:VCALENDAR