BEGIN:VCALENDAR
VERSION:2.0
PRODID:-//Goshen Soccer Academy - ECPv6.15.13//NONSGML v1.0//EN
CALSCALE:GREGORIAN
METHOD:PUBLISH
X-WR-CALNAME:Goshen Soccer Academy
X-ORIGINAL-URL:https://goshensocceracademy.com/es/
X-WR-CALDESC:Eventos para Goshen Soccer Academy
REFRESH-INTERVAL;VALUE=DURATION:PT1H
X-Robots-Tag:noindex
X-PUBLISHED-TTL:PT1H
BEGIN:VTIMEZONE
TZID:America/New_York
BEGIN:DAYLIGHT
TZOFFSETFROM:-0500
TZOFFSETTO:-0400
TZNAME:EDT
DTSTART:20240310T070000
END:DAYLIGHT
BEGIN:STANDARD
TZOFFSETFROM:-0400
TZOFFSETTO:-0500
TZNAME:EST
DTSTART:20241103T060000
END:STANDARD
BEGIN:DAYLIGHT
TZOFFSETFROM:-0500
TZOFFSETTO:-0400
TZNAME:EDT
DTSTART:20250309T070000
END:DAYLIGHT
BEGIN:STANDARD
TZOFFSETFROM:-0400
TZOFFSETTO:-0500
TZNAME:EST
DTSTART:20251102T060000
END:STANDARD
BEGIN:DAYLIGHT
TZOFFSETFROM:-0500
TZOFFSETTO:-0400
TZNAME:EDT
DTSTART:20260308T070000
END:DAYLIGHT
BEGIN:STANDARD
TZOFFSETFROM:-0400
TZOFFSETTO:-0500
TZNAME:EST
DTSTART:20261101T060000
END:STANDARD
END:VTIMEZONE
BEGIN:VEVENT
DTSTART;TZID=America/New_York:20250827T180000
DTEND;TZID=America/New_York:20250827T200000
DTSTAMP:20260424T044210
CREATED:20250811T154618Z
LAST-MODIFIED:20250821T172250Z
UID:2724-1756317600-1756324800@goshensocceracademy.com
SUMMARY:Pickleball nocturno para hombres
DESCRIPTION:¡Vuelve la Noche de Hombres a la GSA! Intentaremos que sea divertida y competitiva para TODOS los niveles de habilidad.  \n¡5$ para los miembros del Club de Pickleball\, o 10$ para todos los demás! \nSerá un formato de Rey de la Pista junto con una pista de desafíos disponible para individuales de pista completa. \nNO es recomendable para jugadores novatos que nunca han jugado – Por favor\, asiste a nuestra clase de Introducción antes de apuntarte a esto. \n¿Tienes preguntas? Por favor\, envía un correo electrónico a: pam@goshensocceracademy.com \nRegístrate en
URL:https://goshensocceracademy.com/es/evento/pickleball-nocturno-para-hombres/
LOCATION:Academia de Fútbol de Goshen\, 1400 Avenida Fairfield\, Goshen\, EN\, United States
END:VEVENT
END:VCALENDAR