BEGIN:VCALENDAR
VERSION:2.0
PRODID:-//Goshen Soccer Academy - ECPv6.15.13//NONSGML v1.0//EN
CALSCALE:GREGORIAN
METHOD:PUBLISH
X-ORIGINAL-URL:https://goshensocceracademy.com/es/
X-WR-CALDESC:Eventos para Goshen Soccer Academy
REFRESH-INTERVAL;VALUE=DURATION:PT1H
X-Robots-Tag:noindex
X-PUBLISHED-TTL:PT1H
BEGIN:VTIMEZONE
TZID:America/New_York
BEGIN:DAYLIGHT
TZOFFSETFROM:-0500
TZOFFSETTO:-0400
TZNAME:EDT
DTSTART:20240310T070000
END:DAYLIGHT
BEGIN:STANDARD
TZOFFSETFROM:-0400
TZOFFSETTO:-0500
TZNAME:EST
DTSTART:20241103T060000
END:STANDARD
BEGIN:DAYLIGHT
TZOFFSETFROM:-0500
TZOFFSETTO:-0400
TZNAME:EDT
DTSTART:20250309T070000
END:DAYLIGHT
BEGIN:STANDARD
TZOFFSETFROM:-0400
TZOFFSETTO:-0500
TZNAME:EST
DTSTART:20251102T060000
END:STANDARD
BEGIN:DAYLIGHT
TZOFFSETFROM:-0500
TZOFFSETTO:-0400
TZNAME:EDT
DTSTART:20260308T070000
END:DAYLIGHT
BEGIN:STANDARD
TZOFFSETFROM:-0400
TZOFFSETTO:-0500
TZNAME:EST
DTSTART:20261101T060000
END:STANDARD
END:VTIMEZONE
BEGIN:VEVENT
DTSTART;TZID=America/New_York:20250825T173000
DTEND;TZID=America/New_York:20250825T183000
DTSTAMP:20260424T044440
CREATED:20250709T172801Z
LAST-MODIFIED:20250821T172128Z
UID:2613-1756143000-1756146600@goshensocceracademy.com
SUMMARY:Comienza la sesión de fútbol de vuelta al cole
DESCRIPTION:¡Abierto a niños desde preescolar hasta 5º de primaria de todos los niveles y habilidades! Los niños que participen en este programa tendrán la oportunidad de hacer ejercicio\, aprender los fundamentos del fútbol\, disfrutar jugando con sus amigos y con nuestros entrenadores. Este programa es un calentamiento para nuestra Academia de Otoño que comienza el 27 de octubre.  \nCoste de la sesión: 40 $ por niño\nSesión: 25 de agosto – 16 de octubre\, 2025\nLugar: Academia de Fútbol de Goshen\, 1400 Fairfield ave\, Goshen \nHorario:\nJardín de infancia y primer grado: Lunes de 17:30 a 18:30\n2º y 3º grado: Martes de 17:30 a 18:30\n4º y 5º grado: Jueves de 17:30 a 18:30 \nRegístrate en
URL:https://goshensocceracademy.com/es/evento/comienza-la-sesion-de-futbol-de-vuelta-al-cole/
LOCATION:Academia de Fútbol de Goshen\, 1400 Avenida Fairfield\, Goshen\, EN\, United States
END:VEVENT
BEGIN:VEVENT
DTSTART;TZID=America/New_York:20250825T190000
DTEND;TZID=America/New_York:20250825T210000
DTSTAMP:20260424T044440
CREATED:20250724T141641Z
LAST-MODIFIED:20250821T172014Z
UID:2679-1756148400-1756155600@goshensocceracademy.com
SUMMARY:Comienza la liga mixta de voleibol para adultos
DESCRIPTION:¡Nos complace dar la bienvenida de nuevo a las Ligas de Voleibol para Adultos a la GSA! ¡Habrá 3 divisiones\, con diferentes niveles de habilidad y competitividad para que todos puedan jugar! La Liga A es muy competitiva\, la Liga B es intermedia y la Liga C es recreativa. Se trata de una sesión de 8 semanas\, en la que todos los equipos jugarán 7 partidos de liga una vez a la semana\, a las 19:00 o a las 20:00\, en las noches respectivas de cada liga\, ¡con una semana final de campeonato! Aunque tu equipo no esté entre los 2 primeros en esa semana final\, ¡tendrás un partido! Los equipos deben tener un mínimo de 6 jugadores para inscribirse como equipo. Esta liga será mixta\, por lo que los equipos deberán tener un mínimo de 2 mujeres en la cancha en todo momento. ¡Los equipos ganadores recibirán camisetas de Campeones y tendrán su foto de equipo en la página de Facebook!        \nDetalles del programa:\n📅 Fechas de la sesión: 25 de agosto – 16 de octubre\n📍 Lugar: Goshen Soccer Academy\, 1400 Fairfield Ave\, Goshen\, IN\n💵 Coste: $300 por equipo \nHorario semanal: \nLiga A: Jueves | 19:00 o 20:00 \nLiga B: Martes | 19:00 o 20:00 \nLiga C: Lunes | 19:00 o 20:00 \nRegístrate en
URL:https://goshensocceracademy.com/es/evento/comienza-la-liga-mixta-de-voleibol-para-adultos/
LOCATION:Academia de Fútbol de Goshen\, 1400 Avenida Fairfield\, Goshen\, EN\, United States
END:VEVENT
END:VCALENDAR