BEGIN:VCALENDAR
VERSION:2.0
PRODID:-//Goshen Soccer Academy - ECPv6.15.13//NONSGML v1.0//EN
CALSCALE:GREGORIAN
METHOD:PUBLISH
X-WR-CALNAME:Goshen Soccer Academy
X-ORIGINAL-URL:https://goshensocceracademy.com/es/
X-WR-CALDESC:Eventos para Goshen Soccer Academy
REFRESH-INTERVAL;VALUE=DURATION:PT1H
X-Robots-Tag:noindex
X-PUBLISHED-TTL:PT1H
BEGIN:VTIMEZONE
TZID:America/New_York
BEGIN:DAYLIGHT
TZOFFSETFROM:-0500
TZOFFSETTO:-0400
TZNAME:EDT
DTSTART:20240310T070000
END:DAYLIGHT
BEGIN:STANDARD
TZOFFSETFROM:-0400
TZOFFSETTO:-0500
TZNAME:EST
DTSTART:20241103T060000
END:STANDARD
BEGIN:DAYLIGHT
TZOFFSETFROM:-0500
TZOFFSETTO:-0400
TZNAME:EDT
DTSTART:20250309T070000
END:DAYLIGHT
BEGIN:STANDARD
TZOFFSETFROM:-0400
TZOFFSETTO:-0500
TZNAME:EST
DTSTART:20251102T060000
END:STANDARD
BEGIN:DAYLIGHT
TZOFFSETFROM:-0500
TZOFFSETTO:-0400
TZNAME:EDT
DTSTART:20260308T070000
END:DAYLIGHT
BEGIN:STANDARD
TZOFFSETFROM:-0400
TZOFFSETTO:-0500
TZNAME:EST
DTSTART:20261101T060000
END:STANDARD
END:VTIMEZONE
BEGIN:VEVENT
DTSTART;TZID=America/New_York:20250823T090000
DTEND;TZID=America/New_York:20250823T170000
DTSTAMP:20260424T044211
CREATED:20250722T180735Z
LAST-MODIFIED:20250818T180436Z
UID:2671-1755939600-1755968400@goshensocceracademy.com
SUMMARY:Desafío de los Adoquines 2025
DESCRIPTION:4º Desafío Anual de Pickleball en Adoquines: El Desafío de los Adoquines es la prueba más dura de pickleball de todo el país. ¿Crees que tienes la habilidad para dominar los adoquines? ¡Inscríbete hoy mismo!   \nDetalles del evento: Coste: 50 $ por jugador. Esta cuota incluye la inscripción en una división\, una camiseta del torneo y un vale para bebidas en Goshen Brewing Co. El pago se realizará el día del torneo   \nUbicación: Goshen Brewing Company 315 West Washington St\, Goshen\, IN \nFechas: 22 y 23 de agosto. El torneo comienza el sábado a las 9 de la mañana. El viernes por la noche\, de 17:00 a 20:00\, habrá un acto de bienvenida con oportunidades para practicar y partidos de exhibición.  \nA lo largo del evento se entregarán palas y botines de Paddletek. \nDivisiones: \nMayores de 55 Dobles Mixtos\nMayores de 55 Dobles Caballeros\nDobles Caballeros Avanzado\nDobles Caballeros Intermedio\nDobles Damas Avanzado\nDobles Damas Intermedio\nDobles Mixtos Abierto \nRegístrate en
URL:https://goshensocceracademy.com/es/evento/desafio-de-los-adoquines-2025/
LOCATION:Goshen Brewing Company\, 315 W Washington Street\, Goshen\, IN\, 46526\, United States
END:VEVENT
END:VCALENDAR