BEGIN:VCALENDAR
VERSION:2.0
PRODID:-//Goshen Soccer Academy - ECPv6.15.13//NONSGML v1.0//EN
CALSCALE:GREGORIAN
METHOD:PUBLISH
X-ORIGINAL-URL:https://goshensocceracademy.com/es/
X-WR-CALDESC:Eventos para Goshen Soccer Academy
REFRESH-INTERVAL;VALUE=DURATION:PT1H
X-Robots-Tag:noindex
X-PUBLISHED-TTL:PT1H
BEGIN:VTIMEZONE
TZID:America/New_York
BEGIN:DAYLIGHT
TZOFFSETFROM:-0500
TZOFFSETTO:-0400
TZNAME:EDT
DTSTART:20240310T070000
END:DAYLIGHT
BEGIN:STANDARD
TZOFFSETFROM:-0400
TZOFFSETTO:-0500
TZNAME:EST
DTSTART:20241103T060000
END:STANDARD
BEGIN:DAYLIGHT
TZOFFSETFROM:-0500
TZOFFSETTO:-0400
TZNAME:EDT
DTSTART:20250309T070000
END:DAYLIGHT
BEGIN:STANDARD
TZOFFSETFROM:-0400
TZOFFSETTO:-0500
TZNAME:EST
DTSTART:20251102T060000
END:STANDARD
BEGIN:DAYLIGHT
TZOFFSETFROM:-0500
TZOFFSETTO:-0400
TZNAME:EDT
DTSTART:20260308T070000
END:DAYLIGHT
BEGIN:STANDARD
TZOFFSETFROM:-0400
TZOFFSETTO:-0500
TZNAME:EST
DTSTART:20261101T060000
END:STANDARD
END:VTIMEZONE
BEGIN:VEVENT
DTSTART;TZID=America/New_York:20250804T130000
DTEND;TZID=America/New_York:20250804T160000
DTSTAMP:20260424T044441
CREATED:20250724T140223Z
LAST-MODIFIED:20250724T140223Z
UID:2675-1754312400-1754323200@goshensocceracademy.com
SUMMARY:Mini campamento de Pickleball para niños
DESCRIPTION:Nuestro Mini Campamento de Pickleball para Niños es una forma divertida de aprender a jugar al Pickleball. Este campamento es para niños de 1º a 6º curso. Están invitados todos los niveles de experiencia y cada día estará repleto de actividades\, desde sesiones de habilidad y juegos en grupos grandes hasta un castillo hinchable. El último día habrá incluso un partido familiar. Este campamento está limitado a los 20 primeros niños que se inscriban\, así que no pierdas la oportunidad de pasarlo en grande jugando al Pickleball en GSA.     \n\n💰 Coste de la sesión: 50 $ por niño \n🏫 Grados: 1º-6º \n📅 Sesión: 4-6 de agosto de 2025 \n⌚Hora: 1-4pm cada día \n📍 Lugar: Academia de Fútbol de Goshen\, 1400 Fairfield Ave\, Goshen
URL:https://goshensocceracademy.com/es/evento/mini-campamento-de-pickleball-para-ninos/
LOCATION:Academia de Fútbol de Goshen\, 1400 Avenida Fairfield\, Goshen\, EN\, United States
END:VEVENT
END:VCALENDAR