BEGIN:VCALENDAR
VERSION:2.0
PRODID:-//Goshen Soccer Academy - ECPv6.15.13//NONSGML v1.0//EN
CALSCALE:GREGORIAN
METHOD:PUBLISH
X-ORIGINAL-URL:https://goshensocceracademy.com/es/
X-WR-CALDESC:Eventos para Goshen Soccer Academy
REFRESH-INTERVAL;VALUE=DURATION:PT1H
X-Robots-Tag:noindex
X-PUBLISHED-TTL:PT1H
BEGIN:VTIMEZONE
TZID:America/New_York
BEGIN:DAYLIGHT
TZOFFSETFROM:-0500
TZOFFSETTO:-0400
TZNAME:EDT
DTSTART:20240310T070000
END:DAYLIGHT
BEGIN:STANDARD
TZOFFSETFROM:-0400
TZOFFSETTO:-0500
TZNAME:EST
DTSTART:20241103T060000
END:STANDARD
BEGIN:DAYLIGHT
TZOFFSETFROM:-0500
TZOFFSETTO:-0400
TZNAME:EDT
DTSTART:20250309T070000
END:DAYLIGHT
BEGIN:STANDARD
TZOFFSETFROM:-0400
TZOFFSETTO:-0500
TZNAME:EST
DTSTART:20251102T060000
END:STANDARD
BEGIN:DAYLIGHT
TZOFFSETFROM:-0500
TZOFFSETTO:-0400
TZNAME:EDT
DTSTART:20260308T070000
END:DAYLIGHT
BEGIN:STANDARD
TZOFFSETFROM:-0400
TZOFFSETTO:-0500
TZNAME:EST
DTSTART:20261101T060000
END:STANDARD
END:VTIMEZONE
BEGIN:VEVENT
DTSTART;TZID=America/New_York:20250725T180000
DTEND;TZID=America/New_York:20250725T210000
DTSTAMP:20260424T062546
CREATED:20250709T175540Z
LAST-MODIFIED:20250709T175540Z
UID:2623-1753466400-1753477200@goshensocceracademy.com
SUMMARY:Pickleball - Slams n' Snacks
DESCRIPTION:Slams n’ Snacks Dobles Mixtos Pickleball Round Robin \n¡Prepárate para divertirte en la pista! Únete a nosotros en Slams n’ Snacks – ¡Trae tu pala\, tu pareja de DOBLES MIXTOS y un tentempié para compartir! \n🕘 Hora: 18:00 – 21:00 \nFormato del acto: \nDOBLES MIXTOS round robin play \nLos jugadores deben inscribirse con una pareja de Dobles Mixtos (por favor\, inscríbete el mismo día que tu pareja). \nAbierto a jugadores autocalificados con 3\,5 o superior \nÚnete a nosotros en diversión juegos\, amistoso caras y deliciosos aperitivos¡s!
URL:https://goshensocceracademy.com/es/evento/pickleball-slams-n-snacks/
LOCATION:Academia de Fútbol de Goshen\, 1400 Avenida Fairfield\, Goshen\, EN\, United States
END:VEVENT
END:VCALENDAR