BEGIN:VCALENDAR
VERSION:2.0
PRODID:-//Goshen Soccer Academy - ECPv6.15.13//NONSGML v1.0//EN
CALSCALE:GREGORIAN
METHOD:PUBLISH
X-ORIGINAL-URL:https://goshensocceracademy.com/es/
X-WR-CALDESC:Eventos para Goshen Soccer Academy
REFRESH-INTERVAL;VALUE=DURATION:PT1H
X-Robots-Tag:noindex
X-PUBLISHED-TTL:PT1H
BEGIN:VTIMEZONE
TZID:America/New_York
BEGIN:DAYLIGHT
TZOFFSETFROM:-0500
TZOFFSETTO:-0400
TZNAME:EDT
DTSTART:20250309T070000
END:DAYLIGHT
BEGIN:STANDARD
TZOFFSETFROM:-0400
TZOFFSETTO:-0500
TZNAME:EST
DTSTART:20251102T060000
END:STANDARD
BEGIN:DAYLIGHT
TZOFFSETFROM:-0500
TZOFFSETTO:-0400
TZNAME:EDT
DTSTART:20260308T070000
END:DAYLIGHT
BEGIN:STANDARD
TZOFFSETFROM:-0400
TZOFFSETTO:-0500
TZNAME:EST
DTSTART:20261101T060000
END:STANDARD
BEGIN:DAYLIGHT
TZOFFSETFROM:-0500
TZOFFSETTO:-0400
TZNAME:EDT
DTSTART:20270314T070000
END:DAYLIGHT
BEGIN:STANDARD
TZOFFSETFROM:-0400
TZOFFSETTO:-0500
TZNAME:EST
DTSTART:20271107T060000
END:STANDARD
END:VTIMEZONE
BEGIN:VEVENT
DTSTART;TZID=America/New_York:20260612T173000
DTEND;TZID=America/New_York:20260614T180000
DTSTAMP:20260423T152543
CREATED:20260401T150112Z
LAST-MODIFIED:20260401T170726Z
UID:3085-1781285400-1781460000@goshensocceracademy.com
SUMMARY:Copa del Mundo Juvenil de Fútbol Sala 3v3
DESCRIPTION:¡GSA se complace en anunciar que la Copa del Mundo llegará a nuestras pistas de Futsal este mes de junio! \nLos grupos de edad tendrán un máximo de 8 equipos divididos en 2 divisiones\, ¡y cada equipo jugará 3 partidos en la liguilla! Los 2 primeros equipos de cada división pasarán a las eliminatorias. #El cabeza de serie nº 1 jugará contra el nº 4\, y el nº 2 contra el nº 3. Los ganadores pasarán al partido por la medalla de oro\, y los equipos perdedores volverán a jugar en el partido por la medalla de bronce.    \nLas pistas son más pequeñas\, nuestras pistas normales se dividen en 2 y los partidos se juegan de lado en las mitades con porterías pequeñas. ¡NO HAY PORTEROS! La duración de los partidos es de 15 minutos. Los equipos pueden tener un MÁXIMO de 6 jugadores en plantilla\, y los jugadores sólo pueden jugar en un equipo.    \nAl inscribirse\, los equipos recibirán por correo electrónico el reglamento completo. \nLas divisiones por edades son: \nChicos: Sub8\, Sub9\, Sub10\, Sub11\, Sub12\, Sub13\, Sub14 \nNiñas: U8\, U10\, U12\, U14 \n  \nInscripción de equipos
URL:https://goshensocceracademy.com/es/evento/copa-del-mundo-juvenil-de-futbol-sala-3v3/
LOCATION:Academia de Fútbol de Goshen\, 1400 Avenida Fairfield\, Goshen\, EN\, United States
END:VEVENT
END:VCALENDAR