BEGIN:VCALENDAR
VERSION:2.0
PRODID:-//Goshen Soccer Academy - ECPv6.15.13//NONSGML v1.0//EN
CALSCALE:GREGORIAN
METHOD:PUBLISH
X-WR-CALNAME:Goshen Soccer Academy
X-ORIGINAL-URL:https://goshensocceracademy.com/en/
X-WR-CALDESC:Events for Goshen Soccer Academy
REFRESH-INTERVAL;VALUE=DURATION:PT1H
X-Robots-Tag:noindex
X-PUBLISHED-TTL:PT1H
BEGIN:VTIMEZONE
TZID:America/New_York
BEGIN:DAYLIGHT
TZOFFSETFROM:-0500
TZOFFSETTO:-0400
TZNAME:EDT
DTSTART:20250309T070000
END:DAYLIGHT
BEGIN:STANDARD
TZOFFSETFROM:-0400
TZOFFSETTO:-0500
TZNAME:EST
DTSTART:20251102T060000
END:STANDARD
BEGIN:DAYLIGHT
TZOFFSETFROM:-0500
TZOFFSETTO:-0400
TZNAME:EDT
DTSTART:20260308T070000
END:DAYLIGHT
BEGIN:STANDARD
TZOFFSETFROM:-0400
TZOFFSETTO:-0500
TZNAME:EST
DTSTART:20261101T060000
END:STANDARD
BEGIN:DAYLIGHT
TZOFFSETFROM:-0500
TZOFFSETTO:-0400
TZNAME:EDT
DTSTART:20270314T070000
END:DAYLIGHT
BEGIN:STANDARD
TZOFFSETFROM:-0400
TZOFFSETTO:-0500
TZNAME:EST
DTSTART:20271107T060000
END:STANDARD
END:VTIMEZONE
BEGIN:VEVENT
DTSTART;TZID=America/New_York:20260612T173000
DTEND;TZID=America/New_York:20260614T180000
DTSTAMP:20260423T152303
CREATED:20260401T150106Z
LAST-MODIFIED:20260401T170721Z
UID:3083-1781285400-1781460000@goshensocceracademy.com
SUMMARY:Youth Futsal 3v3 World Cup
DESCRIPTION:GSA is excited to announce that the world cup is arriving on our Futsal courts this June! \nAge groups will have a max of 8 teams split into 2 divisions\, with each team playing 3 games in group play!  Top 2 teams in each division advance to the playoffs!  #1 seed will play #4 seed\, and #2 will play #3.  Winners advance to the gold medal game\, and losing teams will still play again in the bronze medal game! \nCourts are smaller\, with our normal courts split into 2 and games played side ways on the halves with small goals.  THERE ARE NO GOALIES!  Game duration is one 15 minute period!  Teams may have a MAX of 6 players on the roster\, and players may only play on one team. \nUpon registration teams will be emailed the full set of rules. \nAge divisions are: \nBoys: U8\, U9\, U10\, U11\, U12\, U13\, U14 \nGirls:  U8\, U10\, U12\, U14 \n  \nTeam Signup
URL:https://goshensocceracademy.com/en/event/youth-futsal-3v3-world-cup/
LOCATION:Goshen Soccer Academy\, 1400 Fairfield Ave\, Goshen\, IN\, United States
END:VEVENT
END:VCALENDAR