BEGIN:VCALENDAR
VERSION:2.0
PRODID:-//Goshen Soccer Academy - ECPv6.15.13//NONSGML v1.0//EN
CALSCALE:GREGORIAN
METHOD:PUBLISH
X-WR-CALNAME:Goshen Soccer Academy
X-ORIGINAL-URL:https://goshensocceracademy.com/en/
X-WR-CALDESC:Events for Goshen Soccer Academy
REFRESH-INTERVAL;VALUE=DURATION:PT1H
X-Robots-Tag:noindex
X-PUBLISHED-TTL:PT1H
BEGIN:VTIMEZONE
TZID:America/New_York
BEGIN:DAYLIGHT
TZOFFSETFROM:-0500
TZOFFSETTO:-0400
TZNAME:EDT
DTSTART:20250309T070000
END:DAYLIGHT
BEGIN:STANDARD
TZOFFSETFROM:-0400
TZOFFSETTO:-0500
TZNAME:EST
DTSTART:20251102T060000
END:STANDARD
BEGIN:DAYLIGHT
TZOFFSETFROM:-0500
TZOFFSETTO:-0400
TZNAME:EDT
DTSTART:20260308T070000
END:DAYLIGHT
BEGIN:STANDARD
TZOFFSETFROM:-0400
TZOFFSETTO:-0500
TZNAME:EST
DTSTART:20261101T060000
END:STANDARD
BEGIN:DAYLIGHT
TZOFFSETFROM:-0500
TZOFFSETTO:-0400
TZNAME:EDT
DTSTART:20270314T070000
END:DAYLIGHT
BEGIN:STANDARD
TZOFFSETFROM:-0400
TZOFFSETTO:-0500
TZNAME:EST
DTSTART:20271107T060000
END:STANDARD
END:VTIMEZONE
BEGIN:VEVENT
DTSTART;TZID=America/New_York:20260110T080000
DTEND;TZID=America/New_York:20260110T170000
DTSTAMP:20260423T183626
CREATED:20250930T180447Z
LAST-MODIFIED:20250930T180447Z
UID:2893-1768032000-1768064400@goshensocceracademy.com
SUMMARY:GSA Youth Futsal League Session 2 Starts!
DESCRIPTION:Another year is here—we’re gearing up for a fun winter indoor season at GSA!  Below you can register for our youth futsal leagues.  Second session begins January 10th and ends March 15th. If you know your team will be gone on certain weekends for tournaments\, please make notes of that in the comment section. \n\nAlmost all youth leagues will take place on Saturday.  Younger divisions will play Saturday morning and older divisions Saturday afternoon. High school age Boys (2010 to 2007) birth year will play Sunday afternoons 1pm to 4pm.\n\nDivisions will be grouped by birth year beginning with 2019s up to 2007s. If your team has kids from different birth years please register in the division of the oldest kids on your team.\n\nLeague format is 5v5 which includes the goalie. Team rosters must include a minimum of 8 players. Once registered the coach will receive a roster form via email.\n\nTeam Fee: $650 per team ($450 for 2018 and 2019 birth years).  Includes 8 games and a tournament  $250 deposit must be paid by the beginning of the league. The full balance must be paid by the 3rd game.\n\nRegister
URL:https://goshensocceracademy.com/en/event/gsa-youth-futsal-league-session-2-starts/
LOCATION:Goshen Soccer Academy\, 1400 Fairfield Ave\, Goshen\, IN\, United States
END:VEVENT
BEGIN:VEVENT
DTSTART;TZID=America/New_York:20260321T090000
DTEND;TZID=America/New_York:20260321T140000
DTSTAMP:20260423T183626
CREATED:20260305T202058Z
LAST-MODIFIED:20260305T210014Z
UID:3049-1774083600-1774101600@goshensocceracademy.com
SUMMARY:Elite Skills Youth Soccer Camp
DESCRIPTION:Register Here!\n  \nA specialized soccer camp for 2nd–5th graders led by Coach Tavi and other high-level coaches. Players will focus on dribbling\, finishing\, and skill development in an environment designed to build confidence and ability. Lunch is provided! \n\nRegistration is $45 dollars per player.  Registration will be capped at 35 players. \nMarch 21st from 9am – 2pm.\n\nMorning session will be specialized drills\, afternoon session will be games and game situations.
URL:https://goshensocceracademy.com/en/event/3049/
LOCATION:Goshen Soccer Academy\, 1400 Fairfield Ave\, Goshen\, IN\, United States
END:VEVENT
BEGIN:VEVENT
DTSTART;TZID=America/New_York:20260413T180000
DTEND;TZID=America/New_York:20260413T220000
DTSTAMP:20260423T183626
CREATED:20260303T160832Z
LAST-MODIFIED:20260402T231901Z
UID:3031-1776103200-1776117600@goshensocceracademy.com
SUMMARY:GSA Spring Volleyball Starts!
DESCRIPTION:Signup Here!\n  \n  \nVolleyball is back at GSA this spring!  Come be part of a growing sports community built on energy\, connection\, and competition. Whether you’re playing with friends\, coworkers\, or meeting new teammates\, this league is all about fun rallies\, great moments\, and building community through sport. Don’t miss out! \nWe will have 2 leagues with differing competitiveness levels:  Competitive and Rec.  The season will run from April 13th to May 28th\, with a Tournament the week of May 25th.  Teams will play doubleheaders\, either at 6pm and 7pm or 8pm and 9pm.  Comp league is Tuesday Nights\, and Rec League is Thursdays!  To register your team your captain will need to create an account with us on Court Reserve.  Just choose the GSA Basic membership which is free and then proceed with team registrations. \nAll teams must designate one player to be the team representative.  The maximum number of players allowed on a team’s roster is 15. The minimum number of players allowed on a roster is 6.  Players are only permitted to play on one team per league night.  Players under 18 years old must be given parental consent to participate. All players must be at least 16 years old.  It is the team representative’s responsibility to ensure all of the team’s players sign the official roster. Rosters will be located at GSA. \nTeams consist of a maximum of 6 players on the court. \nTeams may start with 5 players with no penalty. \nTeams may finish with 5 players with no penalty. \nTeams may not start with fewer than 5 players. \nTeams may finish with fewer than 5 players with penalty points assessed for each player below 5. \nUnder no circumstances may more than 3 males be on the court at any time. \nTeams will be allowed to play with as many females as needed.
URL:https://goshensocceracademy.com/en/event/gsa-spring-volleyball-starts/
LOCATION:Goshen Soccer Academy\, 1400 Fairfield Ave\, Goshen\, IN\, United States
END:VEVENT
BEGIN:VEVENT
DTSTART;TZID=America/New_York:20260418T090000
DTEND;TZID=America/New_York:20260418T140000
DTSTAMP:20260423T183626
CREATED:20260325T125600Z
LAST-MODIFIED:20260407T123249Z
UID:3075-1776502800-1776520800@goshensocceracademy.com
SUMMARY:Finishing and Goalies Youth Soccer Camp
DESCRIPTION:GSA already had a skill work and dribbling technique youth soccer camp\, this is the next step in that series!  This session focuses on finishing and goalie skills! \nA specialized soccer camp for 2nd–5th graders led by Coach Tavi and other high-level coaches. Players will focus on striking the ball\, finishing\, and goalie skill development in an environment designed to build confidence and ability. Lunch will again be provided! \n\nRegistration is $45 dollars per player.  Registration will be capped at 35 players. \n\nApril 18th from 9am – 2pm. \n  \n\n\nMorning session will be specialized drills\, afternoon session will be games and game situations.\n  \nRegister Here!
URL:https://goshensocceracademy.com/en/event/finishing-and-goalies-youth-soccer-camp/
LOCATION:Goshen Soccer Academy\, 1400 Fairfield Ave\, Goshen\, IN\, United States
END:VEVENT
BEGIN:VEVENT
DTSTART;TZID=America/New_York:20260612T173000
DTEND;TZID=America/New_York:20260614T180000
DTSTAMP:20260423T183626
CREATED:20260401T150106Z
LAST-MODIFIED:20260401T170721Z
UID:3083-1781285400-1781460000@goshensocceracademy.com
SUMMARY:Youth Futsal 3v3 World Cup
DESCRIPTION:GSA is excited to announce that the world cup is arriving on our Futsal courts this June! \nAge groups will have a max of 8 teams split into 2 divisions\, with each team playing 3 games in group play!  Top 2 teams in each division advance to the playoffs!  #1 seed will play #4 seed\, and #2 will play #3.  Winners advance to the gold medal game\, and losing teams will still play again in the bronze medal game! \nCourts are smaller\, with our normal courts split into 2 and games played side ways on the halves with small goals.  THERE ARE NO GOALIES!  Game duration is one 15 minute period!  Teams may have a MAX of 6 players on the roster\, and players may only play on one team. \nUpon registration teams will be emailed the full set of rules. \nAge divisions are: \nBoys: U8\, U9\, U10\, U11\, U12\, U13\, U14 \nGirls:  U8\, U10\, U12\, U14 \n  \nTeam Signup
URL:https://goshensocceracademy.com/en/event/youth-futsal-3v3-world-cup/
LOCATION:Goshen Soccer Academy\, 1400 Fairfield Ave\, Goshen\, IN\, United States
END:VEVENT
END:VCALENDAR