BEGIN:VCALENDAR
VERSION:2.0
PRODID:-//Goshen Soccer Academy - ECPv6.15.13//NONSGML v1.0//EN
CALSCALE:GREGORIAN
METHOD:PUBLISH
X-ORIGINAL-URL:https://goshensocceracademy.com/en/
X-WR-CALDESC:Events for Goshen Soccer Academy
REFRESH-INTERVAL;VALUE=DURATION:PT1H
X-Robots-Tag:noindex
X-PUBLISHED-TTL:PT1H
BEGIN:VTIMEZONE
TZID:America/New_York
BEGIN:DAYLIGHT
TZOFFSETFROM:-0500
TZOFFSETTO:-0400
TZNAME:EDT
DTSTART:20240310T070000
END:DAYLIGHT
BEGIN:STANDARD
TZOFFSETFROM:-0400
TZOFFSETTO:-0500
TZNAME:EST
DTSTART:20241103T060000
END:STANDARD
BEGIN:DAYLIGHT
TZOFFSETFROM:-0500
TZOFFSETTO:-0400
TZNAME:EDT
DTSTART:20250309T070000
END:DAYLIGHT
BEGIN:STANDARD
TZOFFSETFROM:-0400
TZOFFSETTO:-0500
TZNAME:EST
DTSTART:20251102T060000
END:STANDARD
BEGIN:DAYLIGHT
TZOFFSETFROM:-0500
TZOFFSETTO:-0400
TZNAME:EDT
DTSTART:20260308T070000
END:DAYLIGHT
BEGIN:STANDARD
TZOFFSETFROM:-0400
TZOFFSETTO:-0500
TZNAME:EST
DTSTART:20261101T060000
END:STANDARD
END:VTIMEZONE
BEGIN:VEVENT
DTSTART;TZID=America/New_York:20251103T173000
DTEND;TZID=America/New_York:20251103T193000
DTSTAMP:20260423T220838
CREATED:20250930T173538Z
LAST-MODIFIED:20250930T173538Z
UID:2873-1762191000-1762198200@goshensocceracademy.com
SUMMARY:Little Legends Starts!
DESCRIPTION:Now Enrolling: Little Legends at Goshen Soccer Academy \nWe’re excited to introduce a brand-new soccer program designed just for our youngest athletes! Kids ages 3–4 (Cubs) or 4–5 (Leos) will get the chance to run\, play\, and learn the basics of soccer in a fun and supportive environment. This program is the perfect way to spark a love for the game while building coordination\, teamwork\, and confidence.  There will be 2 available groups for registration per age group\, one on Monday nights and one on Tuesday nights.  Sessions will run for 6 weeks. \nSpots are limited—don’t miss out on this exciting opportunity for your little one to join the fun! \n  \nProgram Details: \n📅 Session Dates: November 3rd – December 9th \n📍 Location: Goshen Soccer Academy\, 1400 Fairfield Ave\, Goshen\, IN \n💵 Cost: $90 per child (includes t-shirt) \n😸 Cubs: Kids ages 3-4 \n🦁 Leos: Kids ages 4-5 \n  \nWeekly Schedule: \nCubs Monday: Monday | 5:30 – 6:30 PM \nCubs Tuesday: Tuesday | 5:30 – 6:30 PM \nLeos Monday: Monday | 6:30 – 7:30 PM \nLeos Tuesday: Tuesday | 6:30 – 7:30 PM \n  \nWe’re looking forward to an exciting session and watching the kids learn\, play\, and grow! \nRegister
URL:https://goshensocceracademy.com/en/event/little-legends-starts/
LOCATION:Goshen Soccer Academy\, 1400 Fairfield Ave\, Goshen\, IN\, United States
END:VEVENT
END:VCALENDAR