BEGIN:VCALENDAR
VERSION:2.0
PRODID:-//Goshen Soccer Academy - ECPv6.15.13//NONSGML v1.0//EN
CALSCALE:GREGORIAN
METHOD:PUBLISH
X-WR-CALNAME:Goshen Soccer Academy
X-ORIGINAL-URL:https://goshensocceracademy.com/en/
X-WR-CALDESC:Events for Goshen Soccer Academy
REFRESH-INTERVAL;VALUE=DURATION:PT1H
X-Robots-Tag:noindex
X-PUBLISHED-TTL:PT1H
BEGIN:VTIMEZONE
TZID:America/New_York
BEGIN:DAYLIGHT
TZOFFSETFROM:-0500
TZOFFSETTO:-0400
TZNAME:EDT
DTSTART:20240310T070000
END:DAYLIGHT
BEGIN:STANDARD
TZOFFSETFROM:-0400
TZOFFSETTO:-0500
TZNAME:EST
DTSTART:20241103T060000
END:STANDARD
BEGIN:DAYLIGHT
TZOFFSETFROM:-0500
TZOFFSETTO:-0400
TZNAME:EDT
DTSTART:20250309T070000
END:DAYLIGHT
BEGIN:STANDARD
TZOFFSETFROM:-0400
TZOFFSETTO:-0500
TZNAME:EST
DTSTART:20251102T060000
END:STANDARD
BEGIN:DAYLIGHT
TZOFFSETFROM:-0500
TZOFFSETTO:-0400
TZNAME:EDT
DTSTART:20260308T070000
END:DAYLIGHT
BEGIN:STANDARD
TZOFFSETFROM:-0400
TZOFFSETTO:-0500
TZNAME:EST
DTSTART:20261101T060000
END:STANDARD
END:VTIMEZONE
BEGIN:VEVENT
DTSTART;TZID=America/New_York:20250825T173000
DTEND;TZID=America/New_York:20250825T183000
DTSTAMP:20260424T025847
CREATED:20250709T172756Z
LAST-MODIFIED:20250821T172122Z
UID:2610-1756143000-1756146600@goshensocceracademy.com
SUMMARY:Back to School Soccer Session Starts
DESCRIPTION:Open to kids from Kindergarten through 5th grade for all levels and abilities! Kids participating in this program will have the opportunity to exercise\, learn soccer basics\, enjoy playing with their friends and our coaches. This program is a warm up for our Fall Academy beginning October 27th \nSession Cost: $40 per child\nSession: August 25th – October 16th\, 2025\nLocation: Goshen Soccer Academy\, 1400 Fairfield ave\, Goshen \nSchedule:\nKindergarten & First Grade: Mondays 5:30 to 6:30pm\n2nd and 3rd grade: Tuesdays 5:30 to 6:30pm\n4th & 5th grade: Thursdays 5:30 to 6:30pm \nRegister
URL:https://goshensocceracademy.com/en/event/back-to-school-soccer-session-starts/
LOCATION:Goshen Soccer Academy\, 1400 Fairfield Ave\, Goshen\, IN\, United States
END:VEVENT
BEGIN:VEVENT
DTSTART;TZID=America/New_York:20250825T190000
DTEND;TZID=America/New_York:20250825T210000
DTSTAMP:20260424T025847
CREATED:20250724T141636Z
LAST-MODIFIED:20250821T172009Z
UID:2676-1756148400-1756155600@goshensocceracademy.com
SUMMARY:Adult Co-ed Volleyball League Starts
DESCRIPTION:We’re excited to welcome back Adult Volleyball Leagues to GSA!  There will be 3 divisions\, with different levels of skill and competitiveness so everyone can play!  A League is very competitive\, B League is Intermediate\, and C League is Recreational!  The session is an 8 week session\, with all teams playing 7 league games once a week at either 7:00 or 8:00 PM on each league’s respective nights with a final championship week!  Even if your team is not in the top 2 teams on that final week you will still have a game!  Teams must have a minimum of 6 players to register as a team.  This league will be Co-ed\, so teams must have a minimum of 2 women on the court at all times.  Winning teams will receive Champions t-shirts and will get their team photo on the Facebook page! \nProgram Details:\n📅 Session Dates: Aug 25 – Oct 16\n📍 Location: Goshen Soccer Academy\, 1400 Fairfield Ave\, Goshen\, IN\n💵 Cost: $300 per team \nWeekly Schedule: \nA League: Thursday | 7:00 or 8:00 PM \nB League: Tuesday | 7:00 or 8:00 PM \nC League: Monday | 7:00 or 8:00 PM \nRegister
URL:https://goshensocceracademy.com/en/event/adult-co-ed-volleyball-league-starts/
LOCATION:Goshen Soccer Academy\, 1400 Fairfield Ave\, Goshen\, IN\, United States
END:VEVENT
END:VCALENDAR